BEGIN:VCALENDAR
VERSION:2.0
PRODID:-//Bernal Connect - ECPv6.15.20//NONSGML v1.0//EN
CALSCALE:GREGORIAN
METHOD:PUBLISH
X-ORIGINAL-URL:https://bernalconnect.com
X-WR-CALDESC:Events for Bernal Connect
REFRESH-INTERVAL;VALUE=DURATION:PT1H
X-Robots-Tag:noindex
X-PUBLISHED-TTL:PT1H
BEGIN:VTIMEZONE
TZID:America/Los_Angeles
BEGIN:DAYLIGHT
TZOFFSETFROM:-0800
TZOFFSETTO:-0700
TZNAME:PDT
DTSTART:20250309T100000
END:DAYLIGHT
BEGIN:STANDARD
TZOFFSETFROM:-0700
TZOFFSETTO:-0800
TZNAME:PST
DTSTART:20251102T090000
END:STANDARD
BEGIN:DAYLIGHT
TZOFFSETFROM:-0800
TZOFFSETTO:-0700
TZNAME:PDT
DTSTART:20260308T100000
END:DAYLIGHT
BEGIN:STANDARD
TZOFFSETFROM:-0700
TZOFFSETTO:-0800
TZNAME:PST
DTSTART:20261101T090000
END:STANDARD
BEGIN:DAYLIGHT
TZOFFSETFROM:-0800
TZOFFSETTO:-0700
TZNAME:PDT
DTSTART:20270314T100000
END:DAYLIGHT
BEGIN:STANDARD
TZOFFSETFROM:-0700
TZOFFSETTO:-0800
TZNAME:PST
DTSTART:20271107T090000
END:STANDARD
END:VTIMEZONE
BEGIN:VEVENT
DTSTART;TZID=America/Los_Angeles:20260426T133000
DTEND;TZID=America/Los_Angeles:20260426T170000
DTSTAMP:20260418T232136
CREATED:20260414T001434Z
LAST-MODIFIED:20260414T001452Z
UID:10003120-1777210200-1777222800@bernalconnect.com
SUMMARY:Free Narcan and Overdose Reversal Training @ St. Kevin's
DESCRIPTION:Free Narcan and Training in Bernal\nWhat: Bilingual Opioid Overdose Reversal Training \nDescription: Learn how to save a life in this fun\, engaging\, and family-friendly training. We will cover: \nRecognizing the signs of an overdose \nStep-by-step overdose response \nSafely using Narcan (Naloxone) \nHands-on practice to build confidence \nReal-life scenarios through a hands-on activity \nPerks: \nFree Narcan will be provided to attendees. \nSnacks will be available. \nCost: Free \nDate: Sunday\, April 26\, 2026 \nTime: 1:30 PM \nWhere: Annuzzi Hall\, St. Kevin’s Church \nAddress: Ellsworth and Jarboe\, in Bernal \nRSVP: Scan the QR code on the flyer to register. \nRegister for Life-Saving Training\nYou can prevent an opioid overdose. This is a life-saving skill that anyone can learn. In this friendly and engaging session\, you will learn the signs of an overdose and exactly what to do. The best part? Free Narcan will be provided\, and snacks are on us. Learn to save a life and help keep your community safe. Register now by scanning the QR code above. \nPrevent An Opioid Overdose\nLearn the life-saving skill of Narcan. Join us for a bilingual training to recognize and respond to an opioid overdose. This is a crucial training for anyone in our community who is concerned about the opioid crisis. RSVP today to help keep your loved ones safe. Scan the QR code. \n\nEntrenamiento y Narcan Gratis en Bernal\nEntrenamiento y Narcan Gratis en Bernal \nQué: Entrenamiento Bilingüe de Reversión de Sobredosis de Opioides \nDescripción: Aprenda cómo salvar una vida en este entrenamiento divertido\, participativo y apto para toda la familia. Cubriremos: \nReconocimiento de los signos de una sobredosis \nRespuesta paso a paso ante una sobredosis \nUso seguro de Narcan (Naloxona) \nPráctica práctica para generar confianza \nEscenarios de la vida real a través de una actividad práctica \nBeneficios: \nSe proporcionará Narcan gratis a los asistentes. \nHabrá refrigerios disponibles. \nCosto: Gratis \nFecha: Domingo\, 26 de abril de 2026 \nHora: 1:30 PM \nDónde: Annuzzi Hall\, St. Kevin’s Church \nDirección: Ellsworth y Jarboe\, en Bernal \nRSVP (Confirme su asistencia): Escanee el código QR en el volante para registrarse. \nRegístrese para el Entrenamiento que Salva Vidas\nUsted puede prevenir una sobredosis de opioides. Esta es una habilidad para salvar vidas que cualquiera puede aprender. En esta sesión amistosa y participativa\, aprenderá los signos de una sobredosis y exactamente qué hacer. ¿La mejor parte? Se proporcionará Narcan gratis\, y los refrigerios corren por nuestra cuenta. Aprenda a salvar una vida y ayude a mantener segura a su comunidad. Regístrese ahora escaneando el código QR de arriba. \nPrevenga una Sobredosis de Opioides\nAprenda la habilidad de Narcan para salvar vidas. Únase a nosotros para un entrenamiento bilingüe para reconocer y responder a una sobredosis de opioides. Este es un entrenamiento crucial para cualquier persona en nuestra comunidad que esté preocupada por la crisis de opioides. Confirme su asistencia hoy para ayudar a mantener seguros a sus seres queridos. Escanee el código QR. \nCalendar – Bernal Heights and Beyond
URL:https://bernalconnect.com/event/free-narcan-and-overdose-reversal-training-st-kevins/
LOCATION:St Kevin’s Catholic Church\, 704 Cortland Avenue\, San Francisco\, CA\, 94110\, United States
CATEGORIES:Community
ATTACH;FMTTYPE=image/png:https://bernalconnect.com/wp-content/uploads/2026/04/2-english.png
END:VEVENT
END:VCALENDAR