BEGIN:VCALENDAR
VERSION:2.0
PRODID:-//Bernal Connect - ECPv6.15.20//NONSGML v1.0//EN
CALSCALE:GREGORIAN
METHOD:PUBLISH
X-ORIGINAL-URL:https://bernalconnect.com
X-WR-CALDESC:Events for Bernal Connect
REFRESH-INTERVAL;VALUE=DURATION:PT1H
X-Robots-Tag:noindex
X-PUBLISHED-TTL:PT1H
BEGIN:VTIMEZONE
TZID:America/Los_Angeles
BEGIN:DAYLIGHT
TZOFFSETFROM:-0800
TZOFFSETTO:-0700
TZNAME:PDT
DTSTART:20250309T100000
END:DAYLIGHT
BEGIN:STANDARD
TZOFFSETFROM:-0700
TZOFFSETTO:-0800
TZNAME:PST
DTSTART:20251102T090000
END:STANDARD
BEGIN:DAYLIGHT
TZOFFSETFROM:-0800
TZOFFSETTO:-0700
TZNAME:PDT
DTSTART:20260308T100000
END:DAYLIGHT
BEGIN:STANDARD
TZOFFSETFROM:-0700
TZOFFSETTO:-0800
TZNAME:PST
DTSTART:20261101T090000
END:STANDARD
BEGIN:DAYLIGHT
TZOFFSETFROM:-0800
TZOFFSETTO:-0700
TZNAME:PDT
DTSTART:20270314T100000
END:DAYLIGHT
BEGIN:STANDARD
TZOFFSETFROM:-0700
TZOFFSETTO:-0800
TZNAME:PST
DTSTART:20271107T090000
END:STANDARD
END:VTIMEZONE
BEGIN:VEVENT
DTSTART;TZID=America/Los_Angeles:20260308T090000
DTEND;TZID=America/Los_Angeles:20260308T110000
DTSTAMP:20260421T135048
CREATED:20260303T052338Z
LAST-MODIFIED:20260303T052338Z
UID:10003103-1772960400-1772967600@bernalconnect.com
SUMMARY:Coffee Meetup @ Bernal Heights Rec Center Plaza
DESCRIPTION:Coffee Meetup @ Bernal Heights Rec Center Plaza\n☕ Neighbors\, Coffee\, and Fresh Air!\nJoin us for a casual morning at the Bernal Heights Rec Center Plaza. Whether you’re a long-time resident or new to the hill\, come grab a cup\, meet your neighbors\, and enjoy our beautiful community space. \nEvent Details\nWhat: Bernal Heights Coffee Meetup \nWhen: Sunday\, March 8\, 2026 \nTime: 9:00 AM – 11:00 AM \nWhere: Bernal Heights Rec Center Plaza \nHosted by: Friends of Bernal Rec Center \nWhy Swing By? \nMeet & Greet: Connect with the folks who make Bernal Heights special. \nCommunity Updates: Chat with the Friends of Bernal Rec Center about upcoming park projects. \nIn the spirit of keeping our park green\, feel free to bring your own reusable mug! \nWe can’t wait to see you there and start the weekend off right. Let’s make our plaza the place to be! \n\nFriends of Bernal Rec\nBernal Heights is an amazing neighborhood that deserves an amazing place to gather. Working together\, we can turn Bernal Rec into a model community hub. \nOur first mission is to renovate the plaza into a welcoming\, well-maintained\, and vibrant gathering space for all neighbors to enjoy for generations to come. The Plaza will continue the greening evolution of our neighborhood\, serving as a model for the rest of the City. This investment addresses both a pressing infrastructure challenge and a long-standing community need — building a more resilient\, connected\, and climate-ready Bernal Heights. \nSan Francisco Family Friendly Calendar
URL:https://bernalconnect.com/event/coffee-meetup-bernal-heights-rec-center-plaza-2/
LOCATION:Bernal Heights Recreation Center Plaza\, 500 Moultrie St\, San Francisco\, CA\, 94110\, United States
CATEGORIES:Community
ATTACH;FMTTYPE=image/png:https://bernalconnect.com/wp-content/uploads/2026/03/Coffee-Meet-up-202603.png
END:VEVENT
BEGIN:VEVENT
DTSTART;TZID=America/Los_Angeles:20260207T090000
DTEND;TZID=America/Los_Angeles:20260207T110000
DTSTAMP:20260421T135048
CREATED:20260202T182421Z
LAST-MODIFIED:20260303T051534Z
UID:10002181-1770454800-1770462000@bernalconnect.com
SUMMARY:Coffee Meetup @ Bernal Heights Rec Center Plaza
DESCRIPTION:Coffee Meetup @ Bernal Heights Rec Center Plaza\n☕ Neighbors\, Coffee\, and Fresh Air!\nJoin us for a casual morning at the Bernal Heights Rec Center Plaza. Whether you’re a long-time resident or new to the hill\, come grab a cup\, meet your neighbors\, and enjoy our beautiful community space. \nEvent Details\nWhat: Bernal Heights Coffee Meetup \nWhen: 1st Saturday 2026 \nTime: 9:00 AM – 11:00 AM \nWhere: Bernal Heights Rec Center Plaza \nHosted by: Friends of Bernal Rec Center \nWhy Swing By? \nMeet & Greet: Connect with the folks who make Bernal Heights special. \nCommunity Updates: Chat with the Friends of Bernal Rec Center about upcoming park projects. \nIn the spirit of keeping our park green\, feel free to bring your own reusable mug! \nWe can’t wait to see you there and start the weekend off right. Let’s make our plaza the place to be! \n\nFriends of Bernal Rec\nBernal Heights is an amazing neighborhood that deserves an amazing place to gather. Working together\, we can turn Bernal Rec into a model community hub. \nOur first mission is to renovate the plaza into a welcoming\, well-maintained\, and vibrant gathering space for all neighbors to enjoy for generations to come. The Plaza will continue the greening evolution of our neighborhood\, serving as a model for the rest of the City. This investment addresses both a pressing infrastructure challenge and a long-standing community need — building a more resilient\, connected\, and climate-ready Bernal Heights. \nSan Francisco Family Friendly Calendar
URL:https://bernalconnect.com/event/coffee-meetup-bernal-heights-rec-center-plaza/2026-02-07/
LOCATION:Bernal Heights Rec Center Playground\, 500 Cortland Avenue\, San Francisco\, CA\, 94110\, United States
CATEGORIES:Community,Food & Drink
ATTACH;FMTTYPE=image/png:https://bernalconnect.com/wp-content/uploads/2026/02/Coffee-Meetup-@-Bernal-Heights-Rec-Center-Plaza.png
END:VEVENT
END:VCALENDAR