BEGIN:VCALENDAR
VERSION:2.0
PRODID:-//Bernal Connect - ECPv6.15.20//NONSGML v1.0//EN
CALSCALE:GREGORIAN
METHOD:PUBLISH
X-WR-CALNAME:Bernal Connect
X-ORIGINAL-URL:https://bernalconnect.com
X-WR-CALDESC:Events for Bernal Connect
REFRESH-INTERVAL;VALUE=DURATION:PT1H
X-Robots-Tag:noindex
X-PUBLISHED-TTL:PT1H
BEGIN:VTIMEZONE
TZID:America/Los_Angeles
BEGIN:DAYLIGHT
TZOFFSETFROM:-0800
TZOFFSETTO:-0700
TZNAME:PDT
DTSTART:20250309T100000
END:DAYLIGHT
BEGIN:STANDARD
TZOFFSETFROM:-0700
TZOFFSETTO:-0800
TZNAME:PST
DTSTART:20251102T090000
END:STANDARD
BEGIN:DAYLIGHT
TZOFFSETFROM:-0800
TZOFFSETTO:-0700
TZNAME:PDT
DTSTART:20260308T100000
END:DAYLIGHT
BEGIN:STANDARD
TZOFFSETFROM:-0700
TZOFFSETTO:-0800
TZNAME:PST
DTSTART:20261101T090000
END:STANDARD
BEGIN:DAYLIGHT
TZOFFSETFROM:-0800
TZOFFSETTO:-0700
TZNAME:PDT
DTSTART:20270314T100000
END:DAYLIGHT
BEGIN:STANDARD
TZOFFSETFROM:-0700
TZOFFSETTO:-0800
TZNAME:PST
DTSTART:20271107T090000
END:STANDARD
END:VTIMEZONE
BEGIN:VEVENT
DTSTART;VALUE=DATE:20260404
DTEND;VALUE=DATE:20260504
DTSTAMP:20260420T013840
CREATED:20260404T221642Z
LAST-MODIFIED:20260404T221642Z
UID:10003116-1775260800-1777852799@bernalconnect.com
SUMMARY:Piece by Piece: New Group Exhibition at Inclusions Gallery
DESCRIPTION:Piece by Piece: New Group Exhibition at Inclusions Gallery\nInclusions Gallery presents “Piece by Piece\,” a compelling group exhibition featuring the works of Margot Hartford\, Martha Cashman\, Sara Foster\, and Susy Siddens. The exhibition invites visitors to 627 Cortland Avenue to experience a collection that explores the intricate beauty of assembly\, texture\, and fragmented storytelling. \nExhibition Details\nDates: Thursday\, April 2\, 2026 – Sunday\, May 3\, 2026\nGallery Hours: 1:00 PM – 6:00 PM\nLocation: Inclusions Gallery\, 627 Cortland Avenue\, San Francisco\, CA 94110 \nAbout the Exhibition\n“Piece by Piece” brings together four distinct artistic voices\, each utilizing unique mediums and techniques to explore how individual elements coalesce into a greater whole. From tactile ceramics and mixed media to evocative photography and layered textiles\, the show highlights the patience and precision inherent in the creative process. \n\nMargot Hartford is known for an evocative lens and mixed media approach\, capturing the essence of a moment through layered visual narratives.\nMartha Cashman\, a master of form and texture\, often challenges the boundaries of traditional materials\, creating sculptural pieces that invite close inspection.\nSara Foster brings a vibrant\, rhythmic energy to the gallery\, using color and composition to build complex\, engaging visual environments.\nSusy Siddens offers a deep dive into the delicate balance of structure and spontaneity\, piecing together elements that resonate with emotional depth.\n\nThe Venue\nLocated in the heart of the Bernal Heights village\, Inclusions Gallery serves as a cornerstone of the local arts scene. “Piece by Piece” offers visitors a perfect opportunity to stroll Cortland Avenue\, enjoy local shops\, and immerse themselves in the creative spirit of the 94110 neighborhood. \nCalendar – Bernal Heights and Beyond\nBernal ConnectMike Doherty serves as Chief Experience Officer at Greening Projects\, a nonprofit organization dedicated to transforming underutilized urban spaces into vibrant green areas
URL:https://bernalconnect.com/event/piece-by-piece-new-group-exhibition-at-inclusions-gallery/
LOCATION:Inclusions Gallery\, 627 Cortland Ave\, San Francisco\, CA\, 94110\, United States
CATEGORIES:Art
ATTACH;FMTTYPE=image/png:https://bernalconnect.com/wp-content/uploads/2026/04/Piece-by-Piece.png
END:VEVENT
BEGIN:VEVENT
DTSTART;VALUE=DATE:20260417
DTEND;VALUE=DATE:20260427
DTSTAMP:20260420T013840
CREATED:20260404T222639Z
LAST-MODIFIED:20260404T222639Z
UID:10003117-1776384000-1777247999@bernalconnect.com
SUMMARY:A Place for Pichon: Sculptural Works by Steve Firestone
DESCRIPTION:A Place for Pichon: Sculptural Works by Steve Firestone\nMichelle Thomas Fine Art Gallery + Studio is pleased to present “A Place for Pichon\,” a solo exhibition by San Francisco artist Steve Firestone. This collection represents over thirty years of sculptural exploration\, transforming the industrial ephemera of the modern world into objects of personality and place. \nEvent Details\nOpening Reception: Friday\, April 17\, 2026 | 5:00 PM – 7:00 PM\nExhibition Dates: On view through June 26\, 2026\nLocation: Michelle Thomas Fine Art Gallery + Studio \nArtist Statement\nThe sculptures selected for this exhibition span over 30 years. The ephemera of an industrialized world are materials used consistently though not exclusively. They are reimagined and imbued with a new life once transformed. \nThe artist invites the viewer to identify the architectural influences in the work\, a style once described as “Bauhaus Romanticism.” Like a scavenger\, Firestone continually collects “stuff\,” trusting that these dormant materials will reveal their potential in the future. While some pieces in this selection reveal a distinct personality\, others evoke a profound sense of place. \nAlongside this group are examples from the Pandemic Pantry series. Created during the Covid-19 lockdowns\, these works were inspired by the newfound cultural interest in pickling and fermenting. Looking at studio shelves packed with “ingredients” collected over the years\, Firestone began a version of “canning” using jars and bottles. The process required a steep learning curve and new tools\, resulting in a deep appreciation for the craft of building ships in a bottle. \nAbout Steve Firestone\nMuch like the work in this exhibition\, Steve Firestone has often reimagined the course of his own life. Originally a student of architecture at Arizona State University\, he later earned a degree in art from the University of California\, Santa Cruz\, with an emphasis on painting and drawing. \nAfter a career building and operating three successive framing businesses in San Francisco\, Firestone earned a teaching credential from San Francisco State University. He served for two decades with the San Francisco Unified School District before retiring in 2020. Today\, he works from his San Francisco home-studio\, a transition he describes as “joyful and fulfilling.” While his practice is rooted in sculpture\, he is currently focused on works on paper and a return to painting. \nPlan Your Visit\nExperience the transformation of the everyday into the extraordinary. Visit the gallery to explore the collection or shop the show online. \nBernal ConnectMike Doherty serves as Chief Experience Officer at Greening Projects\, a nonprofit organization dedicated to transforming underutilized urban spaces into vibrant green areas
URL:https://bernalconnect.com/event/a-place-for-pichon-sculptural-works-by-steve-firestone/
LOCATION:Michelle Thomas Fine Art Gallery\, 40 29th Street\, San Francisco\, CA\, 94110\, United States
CATEGORIES:Art
ATTACH;FMTTYPE=image/webp:https://bernalconnect.com/wp-content/uploads/2026/04/MTGPostcardPatience.webp
END:VEVENT
BEGIN:VEVENT
DTSTART;TZID=America/Los_Angeles:20260418T100000
DTEND;TZID=America/Los_Angeles:20260418T120000
DTSTAMP:20260420T013840
CREATED:20260216T214722Z
LAST-MODIFIED:20260223T221733Z
UID:10003008-1776506400-1776513600@bernalconnect.com
SUMMARY:Tompkins Stairway Garden Work Day
DESCRIPTION:Tompkins Stairway Garden Work Day\nJoin us on the 3rd Saturday of every month at the Tompkins Stairway Garden from 10:00 a.m. to 12:00 p.m. to engage in rewarding activities such as weeding\, pruning\, and litter picking\, and help maintain this quaint green space in our beloved Bernal neighborhood! \nIf you often use these stairs to travel to or from the Alemany Farmers Market\, this is the perfect opportunity to help preserve their beauty. \nWe will provide work gloves and the necessary tools for the tasks. Moreover\, experts from the U.C. Master Gardener program will impart knowledge on plant care. For safety\, we recommend wearing long-sleeved tops\, long pants\, and sturdy shoes. Don’t forget to bring water to keep yourself hydrated. \nLocation: At the junction of Tompkins Avenue and Nevada Street\, right at the top of the stairs. Join us and make a difference! \n\nOnce a trash-covered hillside\, San Francisco’s Tompkins Stairway Garden is a safe and welcoming street park featuring a drought-tolerant garden in year-round bloom and a colorful tiled stairway. Dedicated attention from surrounding neighbors has transformed the site into a community greenspace and pedestrian corridor serving the Alemany Farmers’ Market and nearby schools and shopping districts. \nCalendar – Bernal Heights and Beyond\nUpper Esmeralda Garden Stairway- Community Workdays\nBernal ConnectMike Doherty serves as Chief Experience Officer at Greening Projects\, a nonprofit organization dedicated to transforming underutilized urban spaces into vibrant green areas
URL:https://bernalconnect.com/event/tompkins-stairway-garden-work-day/2026-04-18/
LOCATION:Tompkins Stairway Garden\, Tompkins and Nevada\, San Francisco\, 94110\, United States
CATEGORIES:Community,Home & Garden
ATTACH;FMTTYPE=image/jpeg:https://bernalconnect.com/wp-content/uploads/2023/07/Tompkins-Stairway-Garden-Work-Day.jpg
ORGANIZER;CN="Tompkins Stairway Garden":MAILTO:info@tompkinsstairs.org.
END:VEVENT
BEGIN:VEVENT
DTSTART;TZID=America/Los_Angeles:20260418T114500
DTEND;TZID=America/Los_Angeles:20260418T123000
DTSTAMP:20260420T013840
CREATED:20250903T183918Z
LAST-MODIFIED:20260125T231018Z
UID:10001373-1776512700-1776515400@bernalconnect.com
SUMMARY:Puppy Socials at Bernal Beast
DESCRIPTION:Puppy Socials at Bernal Beast\, Bernal Heights\nWeekly Drop-In Puppy Socialization\nWhen: Every Saturday\, 11:45 AM – 12:30 PM (45 minutes)\nAges: 9-18 weeks old\nFormat: Drop-in sessions – sign up for one or multiple dates \nAbout Our Puppy Socials\nNavigating the balance between safely socializing your pup and protecting them from disease can be confusing during this critical developmental period. Bernal Beast puppy socials are here to help! \nBernal Beast offers supervised play sessions that give puppies the opportunity to learn bite inhibition and expend energy in a safe\, controlled environment. After 45 minutes of “play and train” fun\, you’ll witness your pup nap soundly in their crate for the rest of the day – we have a feeling you’ll be signing up weekly! \nExpert Supervision\nAll sessions are supervised by Stephanie Miller\, certified dog trainer and co-founder of SF PUPPY PREP (established 2003). She ensures play is appropriate\, and she interrupts and encourages as needed to maximize your pup’s socialization experience. \nSteph has been helping dogs and their humans live happier lives for over 25 years. A graduate of the SF SPCA Academy for Dog Trainers\, she’s taught everything from puppy socials to advanced manners at some of the Bay Area’s top training spots. \nIn 2005\, she co-founded SF Puppy Prep\, the city’s first puppy-only daycare and training center\, inspired by the power of early socialization. She’s also Family Paws certified\, giving her a special knack for helping families safely introduce dogs to babies and kids. Whether working with a brand-new puppy or tackling tricky behavior challenges\, Steph brings a wealth of experience\, a love for learning\, and a big smile to every class. \nRequirements\n\nPuppies must be between 9 and 18 weeks old.\nAt least one set of DHPP vaccines was given at least one week before the first social\nBring treats for play breaks and light training during sessions\n\nFacility Details\n\nFloors cleaned with daycare/shelter-grade enzyme cleaner\n45 minutes of supervised pup playtime with training breaks\nSafe environment designed specifically for puppy development\n\nPerfect for puppy parents who want to maximize their pup’s socialization window during this critical developmental period! \nSign up for one social or choose multiple dates – whatever works best for your puppy’s needs. \nCalendar – Bernal Heights and Beyond\nBernal ConnectMike Doherty serves as Chief Experience Officer at Greening Projects\, a nonprofit organization dedicated to transforming underutilized urban spaces into vibrant green areas
URL:https://bernalconnect.com/event/puppy-socials-at-bernal-beast/2026-04-18/
LOCATION:Bernal Beast\, 509 Cortland Avenue\, San Francisco\, CA\, 94110\, United States
CATEGORIES:Pets
ATTACH;FMTTYPE=image/png:https://bernalconnect.com/wp-content/uploads/2025/09/ChatGPT-Image-Sep-3-2025-11_29_09-AM.png
ORGANIZER;CN="Bernal Beast":MAILTO:steph@bernalbeast.com
END:VEVENT
BEGIN:VEVENT
DTSTART;TZID=America/Los_Angeles:20260418T150000
DTEND;TZID=America/Los_Angeles:20260418T180000
DTSTAMP:20260420T013840
CREATED:20260216T201251Z
LAST-MODIFIED:20260216T201253Z
UID:10000500-1776524400-1776535200@bernalconnect.com
SUMMARY:Bernal Chess Club
DESCRIPTION:Bernal Chess Club \nThe Bernal Chess Club convenes every Saturday between 3 and 6 p.m. at Progressive Grounds’ outdoor back patio in Bernal Heights\, SF. All ages and skill levels are welcome\, and attendees are encouraged to purchase food\, drinks\, or take-home items to show their appreciation and ensure the venue welcomes the group back. Bring a chess set if you have one. \nOn the fourth Wednesday of every month\, the Bernal Library community room hosts a special presentation followed by games for those interested in playing. Additional details and updates can be found on the club’s website and mailing list\, accessible at www.bernalchess.com. \nCoffeehouse chess clubs are popular places for chess enthusiasts to gather and play. These clubs benefit the players and the business by promoting future patronage and raising awareness of the location. This model also fosters a win-win scenario for the community. \nCalendar – Bernal Heights and Beyond\nChess Lecture at the Bernal Heights Library\nChess Nights at Barebottle Brewery: A Weekly Gathering for All\nBernal ConnectMike Doherty serves as Chief Experience Officer at Greening Projects\, a nonprofit organization dedicated to transforming underutilized urban spaces into vibrant green areas
URL:https://bernalconnect.com/event/bernal-chess-club-2/2026-04-18/
LOCATION:Progressive Grouds\, 400 Cortland Ave\, San Francisco\, CA\, 94110\, United States
CATEGORIES:Community
ATTACH;FMTTYPE=image/jpeg:https://bernalconnect.com/wp-content/uploads/2023/04/darlene-iRL1P94z4Xc-unsplash-1.jpg
END:VEVENT
END:VCALENDAR